BEGIN:VCALENDAR
VERSION:2.0
PRODID:-//Greater Philadelphia Regional Security Collaborative - ECPv6.15.20//NONSGML v1.0//EN
CALSCALE:GREGORIAN
METHOD:PUBLISH
X-WR-CALNAME:Greater Philadelphia Regional Security Collaborative
X-ORIGINAL-URL:https://philadelphiasecuritycollaborative.com
X-WR-CALDESC:Events for Greater Philadelphia Regional Security Collaborative
REFRESH-INTERVAL;VALUE=DURATION:PT1H
X-Robots-Tag:noindex
X-PUBLISHED-TTL:PT1H
BEGIN:VTIMEZONE
TZID:America/New_York
BEGIN:DAYLIGHT
TZOFFSETFROM:-0500
TZOFFSETTO:-0400
TZNAME:EDT
DTSTART:20240310T070000
END:DAYLIGHT
BEGIN:STANDARD
TZOFFSETFROM:-0400
TZOFFSETTO:-0500
TZNAME:EST
DTSTART:20241103T060000
END:STANDARD
BEGIN:DAYLIGHT
TZOFFSETFROM:-0500
TZOFFSETTO:-0400
TZNAME:EDT
DTSTART:20250309T070000
END:DAYLIGHT
BEGIN:STANDARD
TZOFFSETFROM:-0400
TZOFFSETTO:-0500
TZNAME:EST
DTSTART:20251102T060000
END:STANDARD
BEGIN:DAYLIGHT
TZOFFSETFROM:-0500
TZOFFSETTO:-0400
TZNAME:EDT
DTSTART:20260308T070000
END:DAYLIGHT
BEGIN:STANDARD
TZOFFSETFROM:-0400
TZOFFSETTO:-0500
TZNAME:EST
DTSTART:20261101T060000
END:STANDARD
END:VTIMEZONE
BEGIN:VEVENT
DTSTART;TZID=America/New_York:20250507T173000
DTEND;TZID=America/New_York:20250507T173000
DTSTAMP:20260419T145301
CREATED:20250410T012724Z
LAST-MODIFIED:20250410T013651Z
UID:322-1746639000-1746639000@philadelphiasecuritycollaborative.com
SUMMARY:​Get to Know the WiCyS Delaware Valley Affiliate – New Jersey Edition
DESCRIPTION:Join the Women in CyberSecurity (WiCyS) Delaware Valley Affiliate for an engaging evening to connect with fellow cybersecurity professionals in the New Jersey area. This event offers a unique opportunity to learn about the mission and initiatives of WiCyS\, hear inspiring stories from current members\, and discover how the organization supports career and personal growth in the cybersecurity field.​ \nAgenda: \n5:30 PM – 6:00 PM: Registration and Networking​ \n6:00 PM – 6:45 PM: WiCyS Introduction and Member Experiences \n6:45 PM – 7:30 PM: Q&A Session and Networking​ \nWhether you’re new to the cybersecurity community or a seasoned professional\, this event provides a welcoming environment to expand your network and learn about the resources available through WiCyS.​ \nRegister Here \nDon’t miss this opportunity to be part of a supportive community dedicated to advancing women in cybersecurity.
URL:https://philadelphiasecuritycollaborative.com/event/get-to-know-the-wicys-delaware-valley-affiliate-new-jersey-edition/
LOCATION:LaScala’s Birra\, 5300 North Park Drive\, Pennsauken TownshiP\, NJ\, 08109\, United States
CATEGORIES:WiCyS Events
ATTACH;FMTTYPE=image/png:https://philadelphiasecuritycollaborative.com/wp-content/uploads/2024/04/Untitled-350-x-150-px-20.png
END:VEVENT
END:VCALENDAR